BEGIN:VCALENDAR
VERSION:2.0
PRODID:-//eventon.com NONSGML v1.0//EN
CALSCALE:GREGORIAN
METHOD:PUBLISH
BEGIN:VEVENT
UID:69e4d200bf79e
DTSTAMP:20260419T130048Z
DTSTART:20260409T070000Z
DTEND:20260409T150000Z
LOCATION:OCR STRATEGIE 235 Avenue de Laon 51100 REIMS
SUMMARY:Formation CBCT Validante
DESCRIPTION:Session inter-entreprise prÃ©sentielle ou visioconfÃ©rence : 45
 0 â‚¬ net de taxeActions de formation exonÃ©rÃ©es de TVA en vertu des dispo
 sitions de lâ€™ Art.261-4-4Â°a du CGI.Actions de formation susceptibles dâ€
 ™Ãªtre prises en charge par le FIF PL\nhttps://www.ocrstrategie.fr/agendafo
 rmation/s20260409/
URL:https://www.ocrstrategie.fr/agendaformation/s20260409/
END:VEVENT
END:VCALENDAR